BEGIN:VCALENDAR
VERSION:2.0
PRODID:-//Samaritans - ECPv6.15.20//NONSGML v1.0//EN
CALSCALE:GREGORIAN
METHOD:PUBLISH
X-WR-CALNAME:Samaritans
X-ORIGINAL-URL:https://samaritanshope.org
X-WR-CALDESC:Events for Samaritans
REFRESH-INTERVAL;VALUE=DURATION:PT1H
X-Robots-Tag:noindex
X-PUBLISHED-TTL:PT1H
BEGIN:VTIMEZONE
TZID:America/New_York
BEGIN:DAYLIGHT
TZOFFSETFROM:-0500
TZOFFSETTO:-0400
TZNAME:EDT
DTSTART:20250309T070000
END:DAYLIGHT
BEGIN:STANDARD
TZOFFSETFROM:-0400
TZOFFSETTO:-0500
TZNAME:EST
DTSTART:20251102T060000
END:STANDARD
BEGIN:DAYLIGHT
TZOFFSETFROM:-0500
TZOFFSETTO:-0400
TZNAME:EDT
DTSTART:20260308T070000
END:DAYLIGHT
BEGIN:STANDARD
TZOFFSETFROM:-0400
TZOFFSETTO:-0500
TZNAME:EST
DTSTART:20261101T060000
END:STANDARD
BEGIN:DAYLIGHT
TZOFFSETFROM:-0500
TZOFFSETTO:-0400
TZNAME:EDT
DTSTART:20270314T070000
END:DAYLIGHT
BEGIN:STANDARD
TZOFFSETFROM:-0400
TZOFFSETTO:-0500
TZNAME:EST
DTSTART:20271107T060000
END:STANDARD
END:VTIMEZONE
BEGIN:VEVENT
DTSTART;TZID=America/New_York:20260521T180000
DTEND;TZID=America/New_York:20260521T200000
DTSTAMP:20260422T103834
CREATED:20260206T213008Z
LAST-MODIFIED:20260421T144306Z
UID:10003784-1779386400-1779393600@samaritanshope.org
SUMMARY:Cooking Through Grief
DESCRIPTION:A family-centered class designed to help children ages 5–12 and their caregivers explore feelings of suicide loss through the comforting act of cooking together. Share a meal\, make something new\, & connect with others on their grief journeys at a one‑night cooking class at Third Space Kitchen. \nThis event is open to individuals and families\, but space is limited to 15 participants. The meal will be Italian\, and a gluten‑free option will be available. \nThis event is made possible by The Parmenter Foundation. \nProgram Details\nThursday\, May 21\, 6:30 PM \nLocation: Third Space Kitchen\, 53 Winchester St\, Newton\, MA 02461 \nRegister >> \n 
URL:https://samaritanshope.org/event/cooking-through-grief/
LOCATION:Third Space Kitchen\, 53 Winchester St\, Newton\, MA\, 02461\, United States
CATEGORIES:Suicide Grief Support
ATTACH;FMTTYPE=image/jpeg:https://samaritanshope.org/wp-content/uploads/2026/02/iStock-827963300-e1770995399924.jpg
END:VEVENT
BEGIN:VEVENT
DTSTART;TZID=America/New_York:20260521T190000
DTEND;TZID=America/New_York:20260521T203000
DTSTAMP:20260422T103834
CREATED:20260205T151743Z
LAST-MODIFIED:20260318T200442Z
UID:10003727-1779390000-1779395400@samaritanshope.org
SUMMARY:Canton: In-Person SafePlace Meetings for Loss Survivors - Monthly
DESCRIPTION:Canton SafePlace meetings for anyone who has experienced a loss to suicide take place on every third Thursday of every month. These meetings offer a chance to suicide loss survivors to heal together in community. \nLosing someone to suicide is a painful and difficult experience. Samaritans SafePlace meetings provide a forum for suicide loss survivors to explore feelings not often understood by others. Meetings are facilitated by trained volunteers who have lost someone to suicide. \nSafePlace is not a professional therapy group\, but rather a peer support group offering nonjudgmental listening\, peer connection\, and shared understanding. It offers a chance to share helpful resources\, and to give and get support through the long process of grieving. Meetings are free\, ongoing\, and drop-in. \n\n\n\nMeetings are held: \n\n\n\n\nThird Thursday of every month\n\n\n\n7:00 – 8:30 pm ET\n\n\n\nCanton Community Center\, 92 Pleasant St. Canton\, MA 02021\n\nSamaritans SafePlace groups are open anyone\, to regardless of race\, ethnicity\, age\, gender\, religion\, sexual orientation\, gender identity\, gender expression\, disability\, economic status and other diverse backgrounds. \nRSVP \n 
URL:https://samaritanshope.org/event/canton-in-person-safeplace-meetings-for-loss-survivors/2026-05-21/
LOCATION:92 Pleasant St. Canton\, MA 02021\, 92 Pleasant St.\, Canton\, MA\, 02021\, United States
CATEGORIES:SafePlace,Suicide Grief Support
ATTACH;FMTTYPE=image/jpeg:https://samaritanshope.org/wp-content/uploads/2026/02/iStock-2032300417-e1770304651592.jpg
END:VEVENT
END:VCALENDAR